BEGIN:VCALENDAR
VERSION:2.0
PRODID:-//eventon.com NONSGML v1.0//EN
CALSCALE:GREGORIAN
METHOD:PUBLISH
BEGIN:VEVENT
UID:69e8b039a807e
DTSTAMP:20260422T112545Z
DTSTART:20251125
DTEND:20251126
LOCATION:
SUMMARY:Winter Appeal
DESCRIPTION:Click here to see how each November when our Winter Appeal kick
 s off\,  donors like you help us continue the care we provide to Chicago&#8
 217;s youth and families\,  especially during the holidays.\nhttps://lawren
 cehall.org/events/winter-appeal/
URL:https://lawrencehall.org/events/winter-appeal/
END:VEVENT
END:VCALENDAR