BEGIN:VCALENDAR
VERSION:2.0
PRODID:-//eventon.com NONSGML v1.0//EN
CALSCALE:GREGORIAN
METHOD:PUBLISH
BEGIN:VEVENT
UID:69e8afb751f41
DTSTAMP:20260422T112335Z
DTSTART:20251106
DTEND:20251107
LOCATION:
SUMMARY:Holiday Shop
DESCRIPTION:Put Lawrence Hall youth art in your loved ones&#8217; mailboxes
  by purchasing our holiday cards this winter! Lawrence Hall&#8217;s Holiday
  Shop goes live each year in November. View our latest designs in our Holid
 ay Shop.\nhttps://lawrencehall.org/events/holiday-shop/
URL:https://lawrencehall.org/events/holiday-shop/
END:VEVENT
END:VCALENDAR