BEGIN:VCALENDAR
VERSION:2.0
PRODID:-//eventon.com NONSGML v1.0//EN
CALSCALE:GREGORIAN
METHOD:PUBLISH
BEGIN:VEVENT
UID:69eb649a3a118
DTSTAMP:20260424T123954Z
DTSTART:20251022
DTEND:20251023
LOCATION:Lawrence Hall&#039;s Francisco Campus 4833 N. Francisco Avenue
SUMMARY:Holiday Wish List Drive
DESCRIPTION:Help make the holidays hope-filled for our youth and families b
 y ensuring they have gifts to open this holiday season. Whether you fulfill
  a wish list\,  host a gift drive\,  donate gift cards\,  or join our gift 
 wrapping party\,  your contribution will brighten the holiday of a Lawrence
  Hall youth!\nhttps://lawrencehall.org/events/holiday-wish-list-drive/
URL:https://lawrencehall.org/events/holiday-wish-list-drive/
END:VEVENT
END:VCALENDAR