BEGIN:VCALENDAR
VERSION:2.0
PRODID:-//eventon.com NONSGML v1.0//EN
CALSCALE:GREGORIAN
METHOD:PUBLISH
BEGIN:VEVENT
UID:69e58af05db68
DTSTAMP:20260420T020952Z
DTSTART:20261015T230000Z
DTEND:20261016T030000Z
LOCATION:Lacuna Lofts Studio 2150 S Canalport Ave
SUMMARY:Fall Fête
DESCRIPTION:Join us at our 14th Annual Fall Fête on Thursday\,  October 15
 \,  2026\,  as we celebrate over 160 years of history\,  celebrate the vibr
 ant spirit of today\,  and look forward to a bright future! When you attend
  this year’s Fall Fête\,  you won’t just enjoy a delectable sit-down d
 inner\,  exciting[..]\nhttps://lawrencehall.org/events/fall-fete/
URL:https://lawrencehall.org/events/fall-fete/
END:VEVENT
END:VCALENDAR