BEGIN:VCALENDAR
VERSION:2.0
PRODID:-//eventon.com NONSGML v1.0//EN
CALSCALE:GREGORIAN
METHOD:PUBLISH
BEGIN:VEVENT
UID:69ea6e2c2e457
DTSTAMP:20260423T190828Z
DTSTART:20250601
DTEND:20250602
LOCATION:Lawrence Hall Francisco Campus 4833 N. Francisco Avenue
SUMMARY:Back to School Supply Drive
DESCRIPTION:Help our 600+ students have the supplies they need this upcomin
 g school year. To make sure we have our youth ready when the school year st
 arts\,  please have all donations dropped off or delivered by Monday\,  Aug
 ust 4. The backpacks and supplies will be put together the end of that[..]\
 nhttps://lawrencehall.org/events/back-to-school-supply-drive/
URL:https://lawrencehall.org/events/back-to-school-supply-drive/
END:VEVENT
END:VCALENDAR