BEGIN:VCALENDAR
VERSION:2.0
PRODID:-//eventon.com NONSGML v1.0//EN
CALSCALE:GREGORIAN
METHOD:PUBLISH
BEGIN:VEVENT
UID:69eb645ce0a71
DTSTAMP:20260424T123852Z
DTSTART:20260601
DTEND:20260602
LOCATION:Lawrence Hall Francisco Campus 4833 N. Francisco Avenue
SUMMARY:Back to School Supply Drive
DESCRIPTION:Help our 600+ students have the supplies they need this upcomin
 g school year. To make sure we have our youth ready when the school year st
 arts\,  please have all donations dropped off or delivered by Monday\,  Aug
 ust 4. The backpacks and supplies will be put together the end of that[..]\
 nhttps://lawrencehall.org/events/back-to-school-supply-drive/var/ri-1.l-L1
URL:https://lawrencehall.org/events/back-to-school-supply-drive/var/ri-1.l-L1
END:VEVENT
END:VCALENDAR