BEGIN:VCALENDAR
VERSION:2.0
PRODID:-//eventon.com NONSGML v1.0//EN
CALSCALE:GREGORIAN
METHOD:PUBLISH
BEGIN:VEVENT
UID:69eb6462678e4
DTSTAMP:20260424T123858Z
DTSTART:20260423
DTEND:20260424
LOCATION:
SUMMARY:Spring Appeal
DESCRIPTION:Help create a legacy of resilience. Make your mark in our commu
 nity and donate to our Spring Appeal.\nhttps://lawrencehall.org/events/spri
 ng-appeal/
URL:https://lawrencehall.org/events/spring-appeal/
END:VEVENT
END:VCALENDAR