BEGIN:VCALENDAR
VERSION:2.0
PRODID:-//eventon.com NONSGML v1.0//EN
CALSCALE:GREGORIAN
METHOD:PUBLISH
BEGIN:VEVENT
UID:69eb78792cffa
DTSTAMP:20260424T140441Z
DTSTART:20250802T170000Z
DTEND:20250802T200000Z
LOCATION:Lawrence Hall Francisco Campus 4833 N. Francisco Avenue
SUMMARY:Alumni BBQ 2025
DESCRIPTION:Are you an alumnus of Lawrence Hall? Did you participate in any
  of our programs as a young person? If so\,  join us August 2 from 12–3 P
 M for an Alumni BBQ! Bring your family\,  play field games\,  eat hot dogs 
 and hamburgers from the grill\,  flip through old photos[..]\nhttps://lawre
 ncehall.org/events/alumni-bbq-2025/
URL:https://lawrencehall.org/events/alumni-bbq-2025/
END:VEVENT
END:VCALENDAR